BEGIN:VCALENDAR
VERSION:2.0
PRODID:-//hacksw/handcal//NONSGML v1.0//EN
BEGIN:VEVENT
SUMMARY:Match amical U13
UID:2468c7a7-f414-4e2b-a722-024492811f52
DTSTART:20210626T133000Z
DTEND:20210626T153000Z
LOCATION:Localisation   
CATEGORIES:Sportif
STATUS:
URL;VALUE=URI:https://www.usronchin-football.com/evenements/2021/06/26/match-amical-u13-1490612
END:VEVENT
END:VCALENDAR
