BEGIN:VCALENDAR
VERSION:2.0
PRODID:-//hacksw/handcal//NONSGML v1.0//EN
BEGIN:VEVENT
SUMMARY:Permanence licences
UID:f9fdd20c-7304-4577-b895-9f3eb7f33d2a
DTSTART:20210703T080000Z
DTEND:20210703T100000Z
LOCATION:Stade Leo LAGRANGE rue Pierre DUPONT 59790 RONCHIN
CATEGORIES:Administratif
STATUS:
DESCRIPTION:<h3>Dans le respect des gestes barrieres, 😷 masque
 obligatoire lors de votre passage au secretariat</h3>
 
 <h2
 align="center"
 style="color:#ffffff;background:#0087cf;font-family:Arial;font-size:19px;line-height:100%;font-weight:bold;font-style:normal;text-transform:uppercase;margin-top:.5em;margin-left:0;margin-right:0;margin-bottom:.5em;text-align:center;padding:10px;">Quels
 sont les documents a fournir ?</h2>
 
 <div class="container-fluid
 px-0">
 <div class="row no-gutters">
 <div class="col-12
 col-md-4">
 <div style="padding:5px;margin:5px;border:1px #ddd
 solid;height:100%;">
 <h2
 style="font-size:19px;line-height:100%;font-weight:bold;font-style:normal;text-transform:uppercase;margin:.5em
 0px;text-align:center;"><font
 style="line-height:17px;font-size:17px;">Piece
 d'identite </font></h2>
 
 <p>Uniquement pour les nouveaux licencies
 ou les demandes de mutation.</p>
 </div>
 </div>
 
 <div class="col-12
 col-md-4">
 <div style="padding:5px;margin:5px;border:1px #ddd
 solid;height:100%;">
 <h2
 style="font-size:19px;line-height:100%;font-weight:bold;font-style:normal;text-transform:uppercase;margin:.5em
 0px;text-align:center;"><font
 style="line-height:17px;font-size:17px;">Certificat
 medical </font></h2>
 
 <p>Facultatif pour les mineurs sous reserve
 des reponses au <a
 href="https://www.usronchin-football.com/media/uploaded/sites/98/document/60b502c95a9ed_questiondesantmineur20212022.pdf"
 target="_blank" rel="noreferrer noopener">questionnaire de sante pour
 les mineurs</a>.</p>
 
 <p>Obligatoire pour les majeurs si il a plus de
 3 ans et sous reserve des reponses au <a
 href="https://www.usronchin-football.com/media/uploaded/sites/98/document/60b502fd0103e_questiondesantmajeur20212022.pdf"
 target="_blank" rel="noreferrer noopener">questionnaire de sante pour
 les majeurs</a>.</p>
 
 <p>Telecharger le <a
 href="https://www.usronchin-football.com/media/uploaded/sites/98/document/60b503750283d_certificatmdical20212022.pdf"
 target="_blank" rel="noreferrer noopener">certificat medical au
 format FFF</a>.</p>
 </div>
 </div>
 
 <div class="col-12 col-md-4">
 <div
 style="padding:5px;margin:5px;border:1px #ddd
 solid;height:100%;">
 <h2
 style="font-size:19px;line-height:100%;font-weight:bold;font-style:normal;text-transform:uppercase;margin:.5em
 0px;text-align:center;"><font
 style="line-height:17px;font-size:17px;">Photo</font></h2>
 
 <p>Au
 format numerique de face avec un fond de couleur uni (photo
 smartphone acceptee).</p>
 
 <p>Mineur : valable 2 ans</p>
 
 <p>Majeur :
 valable 5 ans </p>
 </div>
 </div>
 </div>
 </div>
 
 <p
 style="margin:5px;"> </p>
 
 <h2 align="center"
 style="color:#ffffff;background:#0087cf;font-family:Arial;font-size:19px;line-height:100%;font-weight:bold;font-style:normal;text-transform:uppercase;margin-top:.5em;margin-left:0;margin-right:0;margin-bottom:.5em;text-align:center;padding:10px;">Des
 questions ?</h2>
 
 <div style="padding:5px;margin:5px;border:1px #ddd
 solid;height:100%;">Vous pouvez nous contacter par mail a <a
 href="mailto:usronchin59@gmail.com?subject=Inscription%202021-2022">usronchin59@gmail.com</a></div>
 
URL;VALUE=URI:https://www.usronchin-football.com/evenements/2021/07/03/permanence-licences-1496463
END:VEVENT
END:VCALENDAR
